BEGIN:VCALENDAR
VERSION:2.0
PRODID:-//Paros Hikes - ECPv6.15.15//NONSGML v1.0//EN
CALSCALE:GREGORIAN
METHOD:PUBLISH
X-WR-CALNAME:Paros Hikes
X-ORIGINAL-URL:https://paroshikes.com
X-WR-CALDESC:Events for Paros Hikes
REFRESH-INTERVAL;VALUE=DURATION:PT1H
X-Robots-Tag:noindex
X-PUBLISHED-TTL:PT1H
BEGIN:VTIMEZONE
TZID:Europe/Athens
BEGIN:DAYLIGHT
TZOFFSETFROM:+0200
TZOFFSETTO:+0300
TZNAME:EEST
DTSTART:20170326T010000
END:DAYLIGHT
BEGIN:STANDARD
TZOFFSETFROM:+0300
TZOFFSETTO:+0200
TZNAME:EET
DTSTART:20171029T010000
END:STANDARD
BEGIN:DAYLIGHT
TZOFFSETFROM:+0200
TZOFFSETTO:+0300
TZNAME:EEST
DTSTART:20180325T010000
END:DAYLIGHT
BEGIN:STANDARD
TZOFFSETFROM:+0300
TZOFFSETTO:+0200
TZNAME:EET
DTSTART:20181028T010000
END:STANDARD
BEGIN:DAYLIGHT
TZOFFSETFROM:+0200
TZOFFSETTO:+0300
TZNAME:EEST
DTSTART:20190331T010000
END:DAYLIGHT
BEGIN:STANDARD
TZOFFSETFROM:+0300
TZOFFSETTO:+0200
TZNAME:EET
DTSTART:20191027T010000
END:STANDARD
BEGIN:DAYLIGHT
TZOFFSETFROM:+0200
TZOFFSETTO:+0300
TZNAME:EEST
DTSTART:20200329T010000
END:DAYLIGHT
BEGIN:STANDARD
TZOFFSETFROM:+0300
TZOFFSETTO:+0200
TZNAME:EET
DTSTART:20201025T010000
END:STANDARD
BEGIN:DAYLIGHT
TZOFFSETFROM:+0200
TZOFFSETTO:+0300
TZNAME:EEST
DTSTART:20210328T010000
END:DAYLIGHT
BEGIN:STANDARD
TZOFFSETFROM:+0300
TZOFFSETTO:+0200
TZNAME:EET
DTSTART:20211031T010000
END:STANDARD
BEGIN:DAYLIGHT
TZOFFSETFROM:+0200
TZOFFSETTO:+0300
TZNAME:EEST
DTSTART:20220327T010000
END:DAYLIGHT
BEGIN:STANDARD
TZOFFSETFROM:+0300
TZOFFSETTO:+0200
TZNAME:EET
DTSTART:20221030T010000
END:STANDARD
END:VTIMEZONE
BEGIN:VEVENT
DTSTART;TZID=Europe/Athens:20210919T093000
DTEND;TZID=Europe/Athens:20210919T143000
DTSTAMP:20260423T031749
CREATED:20150625T115833Z
LAST-MODIFIED:20210915T151135Z
UID:3797-1632043800-1632061800@paroshikes.com
SUMMARY:The Antiparos North\, Diplo & Kavouras Islets Aqua Hike
DESCRIPTION:Rando Aquatique Antiparos Nord  – Îlots de Diplo & Kavouras de Despotiko \n[EN] Join us on a unique\, easy to moderate difficulty hike along the rugged coastline of Antiparos\, as well as on the uninhabited islets of Diplo & Kavouras just off the northern shores! We will start from the port of Pounta wher we’ll cross over to Antiparos port to start our walk by the water sometimes walking along sandy beaches or on  the coastline and rocky footpaths\, enjoying bthe walk and beautiful views over the emerald waters of the northern coast. Then\, we’ll cross over to the nearby islet of Diplo in the water (5-10 min of aquatic hiking – in swimming swits) and continue to the next islet of Kavouras to reach points of spectacular natural beauty. The walking terrain will be rocky but  mostly flat  trails (‘goat paths’) but we will be rewarded with scenic landscapes where land gracefully blends with water\, as well as impressive volcanic rock formations and breathtaking views to the surrounding rocky islets & reefs\, to the islands of Antiparos\, Paros and sifnos\, and the open sea! A sea dip at the sandy beach by  Antiparos Camping will refresh us on our return to the coast of Antiparos\, to be followed by a break  for a “Taste of Paros” picnic by the beach with fresh local produce\, a cooked dish and Paros wine. The tour will conclude with more spectacular cliffside views\, as well as a passage through Antiparos town including a tour of the 13th. c. Venetian fort. Distance 9 km\, duration 4h-4h30m\, rocky terrain\, net elevation +/-30 m.\nWe will be departing from Pounta Port [ferry departure] @09:00h to start our hike from Antiparos port at 09:10h. Hike price does not include transportation (ferry transfer 1.2€ OW). Reservations necessary – email us: chris@paroshikes.com or call/text us: +306972288821 (Viber/WhatsApp). See you at Pounta! \n[FR] Rejoignez-nous pour une randonnée unique\, de difficulté facile à modérée\, le long de la côte accidentée d’Antiparos\, ainsi que sur les îlots inhabités de Diplo & Kavouras juste metres au large de la rive nord ! Nous partirons du port de Pounta où nous traverserons le port d’Antiparos pour commencer notre promenade au bord de l’eau en marchant parfois le long des plages de sable fin ou sur le littoral et les sentiers rocheux\, profitant de la promenade et de belles vues sur les eaux émeraude du nord côte. Ensuite\, nous traverserons l’îlot voisin de Diplo dans l’eau (5-10 min de randonnée aquatique en maillot) et continuerons jusqu’à l’îlot suivant de Kavouras pour atteindre des points d’une beauté naturelle spectaculaire. Le terrain de marche sera constitué de sentiers rocheux mais principalement plats (« sentiers de chèvres »)\, mais nous serons récompensés par des paysages pittoresques où la terre se mélange gracieusement à l’eau\, ainsi que d’impressionnantes formations de roche volcanique et des vues à couper le souffle sur les îlots et récifs rocheux environnants\, à les îles d’Antiparos\, Paros et Sifnos\, et le grand large ! Un bain de mer à la plage de sable par Antiparos Camping nous rafraîchira à notre retour sur la côte d’Antiparos\, suivi d’une pause pour un pique-nique “Taste of Paros” au bord de la plage avec des produits frais locaux\, un plat cuisiné et du vin de Paros. La randonnée se terminera par des vues plus spectaculaires sur les falaises cotiéres de Antiparos\, ainsi qu’un passage dans la ville d’Antiparos\, y compris une visite au fort vénitien du 13ème siecle. Distance 9 km\, durée 4h-4h30m\, terrain mixte\, denivélé +/-30 m.\nNous partirons au port de Pounta [départ du ferry] @ 09:00 h. Le prix de la randonnée ne comprend pas le transport (transfert en bateau à Antiparos: 1\,2€ aller). Réservations nécessaires: chris@paroshikes.com / +306972288821 (Viber/ WhatsApp). On vous attends à Pounta! \n[EL] Ελάτε μαζί μας σε μια όμορφη πεζοπορία εύκολη έως μέτριας δυσκολίας κατά μήκος της βόρειας ακτογραμμής της Αντιπάρου και περιλαμβάνει και εξερελυνηση των ακατοίκητων νησίδων Διπλό & Κάβουρας μόλις έξω από τη βόρεια ακτή του ηξσιού! Θα ξεκινήσουμε από το λιμάνι της Πούντας όπου θα περάσουμε στο λιμάνι της Αντιπάρου για να ξεκινήσουμε τη βόλτα μας δίπλα στο νερό μερικές φορές περπατώντας κατά μήκος αμμώδεις παραλίες ή στην ακτογραμμή και βραχώδη μονοπάτια\, απολαμβάνοντας τον περίπατο και την όμορφη θέα στα σμαραγδένια νερά του βορρά ακτή. Στη συνέχεια\, θα περάσουμε στην κοντινή νησίδα Διπλό στο νερό (5-10 λεπτά πεζοπορίας στο νερό – με κολύμπι) και θα συνεχίσουμε στην επόμενη νησίδα Κάβουρα για να φτάσουμε σε σημεία εκπληκτικής φυσικής ομορφιάς. Θα περπατήσουμε σε βραχώδη αλλά κυρίως επίπεδα μονοπάτια («γιδόστρατες») για να ανταμειφθούμε με  τοπία όπου η γη τέμνεται από λωρίδες νερού\, απόκρημνες ακτές και εντυπωσιακούς ηφαιστειογενείς σχηματισμούς\, ενώ θα απολαύσουμε εκπληκτική θέα στις γύρω βραχονησίδες και υφάλους\, τα νησιά της Αντιπάρου\, της Πάρου και της Σίφνου\, και την ανοιχτή θάλασσα! Μια βουτιά στη θάλασσα στην αμμώδη παραλία από το Antiparos Camping θα μας αναζωογονήσει κατά την επιστροφή μας στην ακτή της Αντιπάρου\, και θα ακολουθήσει διάλειμμα για ένα πικνίκ “Taste of Paros” δίπλα στην παραλία με τοπικά προϊόντα και κρασί της Πάρου Το Η περιήγηση θα ολοκληρωθεί με πέρασμα από ααπόκρημνα  σημεία με εντυπωσιακή θέα  καθώς και ένα πέρασμα από την πόλη της Αντιπάρου\, συμπεριλαμβανομένης μιας περιήγησης στο Ενετικό κάστρο του 13ου αι. Απόσταση 9 km\, διάρκεια 4ω-4ω30λ\, βραχώδες έδαφος\, καθαρό υψόμετρική διαφορά +/-30 m.\nΘα αναχωρήσουμε από το λιμάνι της Πούντας [αναχώρηση με πλοίο] @09: 00h για να ξεκινήσουμε την πεζοπορία μας από το λιμάνι της Αντιπάρου στις 09: 10h. Στην τιμή της περιήγησης δεν συμπεριλαμβάνεται μεταφορά στην Αντίπαρο (φέρρυ-μποτ 1\,2€). Κρατήσεις απαραίτητες – στείλτε μας email: chris@paroshikes.com ή καλέστε/στείλτε μας μήνυμα: +306972288821 (Viber/WhatsApp).  Ραντεβού στη Πούντα!
URL:https://paroshikes.com/tour/the-antiparos-north-diplo-kavouras-islets-aqua-hike/
LOCATION:Pounta Port\, Paros\, Cyclades\, Greece
CATEGORIES:Antiparos hikes & walks
ATTACH;FMTTYPE=image/jpeg:https://paroshikes.com/wp-content/uploads/2015/06/North-Antiparos-Diplo.jpg
END:VEVENT
BEGIN:VEVENT
DTSTART;TZID=Europe/Athens:20210902T090000
DTEND;TZID=Europe/Athens:20210902T140000
DTSTAMP:20260423T031750
CREATED:20150625T115833Z
LAST-MODIFIED:20210828T192544Z
UID:3760-1630573200-1630591200@paroshikes.com
SUMMARY:The Antiparos North\, Diplo & Kavouras Islets Aqua Hike
DESCRIPTION:Rando Aquatique Antiparos Nord  – Îlots de Diplo & Kavouras de Despotiko \n[EN] Join us on a unique\, easy to moderate difficulty hike along the rugged coastline of Antiparos\, as well as on the uninhabited islets of Diplo & Kavouras just off the northern shores! We will start from the port of Pounta wher we’ll cross over to Antiparos port to start our walk by the water sometimes walking along sandy beaches or on  the coastline and rocky footpaths\, enjoying bthe walk and beautiful views over the emerald waters of the northern coast. Then\, we’ll cross over to the nearby islet of Diplo in the water (5-10 min of aquatic hiking – in swimming swits) and continue to the next islet of Kavouras to reach points of spectacular natural beauty. The walking terrain will be rocky but  mostly flat  trails (‘goat paths’) but we will be rewarded with scenic landscapes where land gracefully blends with water\, as well as impressive volcanic rock formations and breathtaking views to the surrounding rocky islets & reefs\, to the islands of Antiparos\, Paros and sifnos\, and the open sea! A sea dip at the sandy beach by  Antiparos Camping will refresh us on our return to the coast of Antiparos\, to be followed by a break  for a “Taste of Paros” picnic by the beach with fresh local produce\, a cooked dish and Paros wine. The tour will conclude with more spectacular cliffside views\, as well as a passage through Antiparos town including a tour of the 13th. c. Venetian fort. Distance 9 km\, duration 4h-4h30m\, rocky terrain\, net elevation +/-30 m.\nWe will be departing from Pounta Port [ferry departure] @09:00h to start our hike from Antiparos port at 09:10h. Hike price does not include transportation (ferry transfer 1.2€ OW). Reservations necessary – email us: chris@paroshikes.com or call/text us: +306972288821 (Viber/WhatsApp). See you at Pounta! \n[FR] Rejoignez-nous pour une randonnée unique\, de difficulté facile à modérée\, le long de la côte accidentée d’Antiparos\, ainsi que sur les îlots inhabités de Diplo & Kavouras juste metres au large de la rive nord ! Nous partirons du port de Pounta où nous traverserons le port d’Antiparos pour commencer notre promenade au bord de l’eau en marchant parfois le long des plages de sable fin ou sur le littoral et les sentiers rocheux\, profitant de la promenade et de belles vues sur les eaux émeraude du nord côte. Ensuite\, nous traverserons l’îlot voisin de Diplo dans l’eau (5-10 min de randonnée aquatique en maillot) et continuerons jusqu’à l’îlot suivant de Kavouras pour atteindre des points d’une beauté naturelle spectaculaire. Le terrain de marche sera constitué de sentiers rocheux mais principalement plats (« sentiers de chèvres »)\, mais nous serons récompensés par des paysages pittoresques où la terre se mélange gracieusement à l’eau\, ainsi que d’impressionnantes formations de roche volcanique et des vues à couper le souffle sur les îlots et récifs rocheux environnants\, à les îles d’Antiparos\, Paros et Sifnos\, et le grand large ! Un bain de mer à la plage de sable par Antiparos Camping nous rafraîchira à notre retour sur la côte d’Antiparos\, suivi d’une pause pour un pique-nique “Taste of Paros” au bord de la plage avec des produits frais locaux\, un plat cuisiné et du vin de Paros. La randonnée se terminera par des vues plus spectaculaires sur les falaises cotiéres de Antiparos\, ainsi qu’un passage dans la ville d’Antiparos\, y compris une visite au fort vénitien du 13ème siecle. Distance 9 km\, durée 4h-4h30m\, terrain mixte\, denivélé +/-30 m.\nNous partirons au port de Pounta [départ du ferry] @ 09:00 h. Le prix de la randonnée ne comprend pas le transport (transfert en bateau à Antiparos: 1\,2€ aller). Réservations nécessaires: chris@paroshikes.com / +306972288821 (Viber/ WhatsApp). On vous attends à Pounta! \n[EL] Ελάτε μαζί μας σε μια όμορφη πεζοπορία εύκολη έως μέτριας δυσκολίας κατά μήκος της βόρειας ακτογραμμής της Αντιπάρου και περιλαμβάνει και εξερελυνηση των ακατοίκητων νησίδων Διπλό & Κάβουρας μόλις έξω από τη βόρεια ακτή του ηξσιού! Θα ξεκινήσουμε από το λιμάνι της Πούντας όπου θα περάσουμε στο λιμάνι της Αντιπάρου για να ξεκινήσουμε τη βόλτα μας δίπλα στο νερό μερικές φορές περπατώντας κατά μήκος αμμώδεις παραλίες ή στην ακτογραμμή και βραχώδη μονοπάτια\, απολαμβάνοντας τον περίπατο και την όμορφη θέα στα σμαραγδένια νερά του βορρά ακτή. Στη συνέχεια\, θα περάσουμε στην κοντινή νησίδα Διπλό στο νερό (5-10 λεπτά πεζοπορίας στο νερό – με κολύμπι) και θα συνεχίσουμε στην επόμενη νησίδα Κάβουρα για να φτάσουμε σε σημεία εκπληκτικής φυσικής ομορφιάς. Θα περπατήσουμε σε βραχώδη αλλά κυρίως επίπεδα μονοπάτια («γιδόστρατες») για να ανταμειφθούμε με  τοπία όπου η γη τέμνεται από λωρίδες νερού\, απόκρημνες ακτές και εντυπωσιακούς ηφαιστειογενείς σχηματισμούς\, ενώ θα απολαύσουμε εκπληκτική θέα στις γύρω βραχονησίδες και υφάλους\, τα νησιά της Αντιπάρου\, της Πάρου και της Σίφνου\, και την ανοιχτή θάλασσα! Μια βουτιά στη θάλασσα στην αμμώδη παραλία από το Antiparos Camping θα μας αναζωογονήσει κατά την επιστροφή μας στην ακτή της Αντιπάρου\, και θα ακολουθήσει διάλειμμα για ένα πικνίκ “Taste of Paros” δίπλα στην παραλία με τοπικά προϊόντα και κρασί της Πάρου Το Η περιήγηση θα ολοκληρωθεί με πέρασμα από ααπόκρημνα  σημεία με εντυπωσιακή θέα  καθώς και ένα πέρασμα από την πόλη της Αντιπάρου\, συμπεριλαμβανομένης μιας περιήγησης στο Ενετικό κάστρο του 13ου αι. Απόσταση 9 km\, διάρκεια 4ω-4ω30λ\, βραχώδες έδαφος\, καθαρό υψόμετρική διαφορά +/-30 m.\nΘα αναχωρήσουμε από το λιμάνι της Πούντας [αναχώρηση με πλοίο] @09: 00h για να ξεκινήσουμε την πεζοπορία μας από το λιμάνι της Αντιπάρου στις 09: 10h. Στην τιμή της περιήγησης δεν συμπεριλαμβάνεται μεταφορά στην Αντίπαρο (φέρρυ-μποτ 1\,2€). Κρατήσεις απαραίτητες – στείλτε μας email: chris@paroshikes.com ή καλέστε/στείλτε μας μήνυμα: +306972288821 (Viber/WhatsApp).  Ραντεβού στη Πούντα!
URL:https://paroshikes.com/tour/the-north-antiparos-diplo-kavouras-aqua-hike/
LOCATION:Pounta Port\, Paros\, Cyclades\, Greece
CATEGORIES:Antiparos hikes & walks
ATTACH;FMTTYPE=image/jpeg:https://paroshikes.com/wp-content/uploads/2015/06/North-Antiparos-Diplo.jpg
END:VEVENT
BEGIN:VEVENT
DTSTART;TZID=Europe/Athens:20201004T093000
DTEND;TZID=Europe/Athens:20201004T150000
DTSTAMP:20260423T031750
CREATED:20150625T115833Z
LAST-MODIFIED:20201003T070935Z
UID:3289-1601803800-1601823600@paroshikes.com
SUMMARY:The Despotiko Island Hike
DESCRIPTION:Rando-Picnic sur l’ Île de Despotiko \n[EN] Time to explore Despotiko island! Join us on a circular\, moderate difficulty hike on the rugged uninhabited island off southern Antiparos\, with a visit to the archeological site and beautiful faraway beaches! We will start with a short tour of the archeological site of the ancient tempple of Apollo. We will then walk over the coastline and over rough footpaths to the juniper-covered hillsides. The terrain will be mostly rocky and we’ll follow unmarked shepherds’ trails (a.k.a. ‘goat-trails’) to reach points of spectacular views to the open sea and Antiparos\, Paros and the surrounding islands. Spectacular dips in the wide sandy beach of Livadi facing the ocean\, and at a secret cove with emerald waters\, will refresh us along the way. The tour will end with a “Taste of Paros” picnic by the beach with fresh local produce\, a cooked dish and Paros wine! Distance 8.5 km\, duration 5h\, rocky terrain\, net elevation +/- 130 m.\nWe will be departing from Pounta Port [ferry departure] @09:30 h. Our hike starting point will be at St. George quay at 10:00h to cross over to Despotiko. Tour price includes all transfer on Antiparos & Despotiko Pounta/Antiparos town (return transfer from Antiparos port to St. Georgios beach and boat transfer to Despotiko)\, but does not include ferry from Pounta to Antiparos (1.2€ OW). Reservations necessary – email: chris@paroshikes.com or call/text: +306972288821 (Viber/WhatsApp). See you at Pounta! \n[FR] Le temps est venu d’explorer l’île de Despotiko! Joignez-nous à une randonnée circulaire modérée sur la belle île inhabitée sud d’Antiparos! Nous allons marcher sur let collines des plages de sable doré et des plages rocheuses dans un paysage serein et le long des sentiers rocheux et caillouteux sur les collines couvertes de genévrier. On va marcher sur un terrain rocheux et les sentiers “hors piste” (chemins de chèvres) pour atteindre excellentes vues sur les falaises vers la mer et les îles de Antiparos\, Paros et et les autres îles environnantes. Deux petites baignades rafraîchissantes  plages lointaines pittoresques sont également dans le programme\, ainsi qu’un pique-nique “Goût de Paros” avec des produits locaux frais\, un plat cuit et bien sur du vin Paros! Distance 8 km\, durée 5 h\, terrain mixte\, élévation nette +/- 130 m.\nNous partirons du port de Pounta [départ du ferry] à 09h30. Notre point de départ de la randonnée sera le quai de St. George à 10h00 pour traverser en bateau à Despotiko. Le prix du circuit comprend tous les transferts sur Antiparos et Despotiko (transfert aller-retour du port d’Antiparos à la plage de St.Georgios et transfert en bateau vers Despotiko)\, mais n’inclut pas le ferry de Pounta à Antiparos (1\,2 € – aller). \n[EL] Ελάτε να εξερευνήσουμε το Δεσποτικό σε μια κυκλική\, μέτριας δυσκολίας πεζοπορία στο άγριο αυτό ακατοίκητο νησί νότια της Αντιπάρου! Θα ξεκινήσουμε με μια σύντομη περιήγηση στον αρχαιολογικό χώρο του αρχαίου ναού του Απόλλωνα. Στη συνέχεια\, θα περπατήσουμε πάνω από την ακτογραμμή σε τραχιά μονοπάτια στους λόφους ακολουθώντας μονοπάτια βοσκών\, για να φτάσουμε σε σημεία με εκπληκτική θέα στην ανοιχτή θάλασσα και τα γύρω νησιά. Θα κάνουμε στάσεις για μπάνιο σε αμμουδερές παραλίες ενώ θα τελειώσουμε με ένα πικνίκ με “Γεύση Πάρου” δίπλα στην θάλασσα με φρέσκα τοπικά προϊόντα και κρασί! Απόσταση 8 χλμ.\, Διάρκεια 5 ώρες\, βραχώδη και ανώμαλα εδάφη\, καθαρή ύψ. διαφορά +/- 130 μ.\nΘα αναχωρήσουμε από το λιμάνι της Πούντας [αναχώρηση φέριμποτ] @ 09:30. Το σημείο εκκίνησης θα βρίσκεται στην αποβάθρα του Αγίου Γεωργίου στις 10:00 όπου θα περάσουμε απέναντι στο Δεσποτικό. Η τιμή περιλαμβάνει μεταφορά από το λιμάνι της Αντιπάρου στον Άγιο Γεώργιο και πίσω και το κόστος μεταφοράς με βάρκα για το Δεσποτικό\, αλλά δεν περιλαμβάνει το φέρι μποτ Πούντα-Αντίπαρος (1\,2€ απλή μετάβαση). Κρατήσεις απαραίτητες: chris@paroshikes.com/ +306972288821 (Viber/WhatsApp) – ραντεβού στην Πούντα!
URL:https://paroshikes.com/tour/the-antiparos-despotiko-hike-3/
LOCATION:Pounta Port\, Paros\, Cyclades\, Greece
CATEGORIES:Antiparos hikes & walks
ATTACH;FMTTYPE=image/jpeg:https://paroshikes.com/wp-content/uploads/2015/06/Antiparos-Despotiko.jpg
END:VEVENT
BEGIN:VEVENT
DTSTART;TZID=Europe/Athens:20180930T082500
DTEND;TZID=Europe/Athens:20180930T142500
DTSTAMP:20260423T031750
CREATED:20150625T115833Z
LAST-MODIFIED:20150625T115833Z
UID:2634-1538295900-1538317500@paroshikes.com
SUMMARY:The Antiparos Despotiko Hike
DESCRIPTION:Rando Apéro Antiparos – Île de Despotiko \n[EN] Time to explore Despotiko island! Join us on a circular\, moderate difficulty hike on the rugged uninhabited island off southern Antiparos\, with a visit to the archeological site and beautiful faraway beaches! We will start with a short tour of the archeological site of the ancient tempple of Apollo. We will then walk over the coastline and over rough footpaths to the juniper-covered hillsides. The terrain will be mostly rocky and we’ll follow unmarked shepherd’s trails (a.k.a. ‘goat-path’) to reach points of spectacular views to the open sea and Antiparos\, Paros and the surrounding islands. Sea dips in (in the sandy beach of Livadi & a secret cove) will refresh us along the way\, and we will end with a “Taste of Paros” picnic by the beach with fresh local produce\, a cooked dish and Paros wine at the end of our route! Distance 8 km\, duration 5h\, rocky terrain\, net elevation +/- 130 m.\nWe will be departing from Pounta Port [ferry departure] @10:00 h.  Our hike starting point will be at St. George quay at 10:30h to cross over to Despotiko. Hike price does not include transportation (boat transfer to Despotiko: 7€\, bus from Antiparos port to St. Georgios: 1.8€ OW) Reservations necessary – email: chris@paroshikes.com or call/text: +306972288821 (Viber/WhatsApp). See you at Pounta! \n[FR] Le temps est venu d’explorer l’île de Despotiko! Joignez-nous à une randonnée circulaire modérée sur la belle île inhabitée sud d’Antiparos! Nous allons marcher sur let collines des plages de sable doré et des plages rocheuses dans un paysage serein et le long des sentiers rocheux et caillouteux sur les collines couvertes de genévrier. On va marcher sur un terrain rocheux et les sentiers “hors piste” (chemins de chèvres) pour atteindre excellentes vues sur les falaises vers la mer et les îles de Antiparos\, Paros et et les autres îles environnantes. Deux petites baignades rafraîchissantes  plages lointaines pittoresques sont également dans le programme\, ainsi qu’un pique-nique “Goût de Paros” avec des produits locaux frais\, un plat cuit et bien sur du vin Paros! Distance 8 km\, durée 5 h\, terrain mixte\, élévation nette +/- 130 m.\nNous partirons au port de Pounta [départ du ferry] @ 10:00 h. Le point de départ exact de notre itinéraire sera au quai de st. George (à côté de restaurant Akrogiali) à 10:30h. Le prix de la randonnée ne comprend pas le transport (transfert en bateau à Despotiko: 7€\, bus du port d’Antiparos à St. Georgios: 1\,8€ aller). Réservations nécessaires: chris@paroshikes.com / +306972288821 (Viber/ WhatsApp). On se voit à Pounta! \n[EL] Ελάτε να εξερευνήσουμε το Δεσποτικό σε μια κυκλική\, μέτριας δυσκολίας πεζοπορία στο άγριο αυτό ακατοίκητο νησί νότια της Αντιπάρου! Θα ξεκινήσουμε με μια σύντομη περιήγηση στον αρχαιολογικό χώρο του αρχαίου ναού του Απόλλωνα. Στη συνέχεια\, θα περπατήσουμε πάνω από την ακτογραμμή σε τραχιά μονοπάτια στους λόφους ακολουθώντας μονοπάτια βοσκών\, για να φτάσουμε σε σημεία με εκπληκτική θέα στην ανοιχτή θάλασσα και τα γύρω νησιά. Θα κάνουμε στάσεις για μπάνιο σε αμμουδερές παραλίες ενώ θα τελειώσουμε με ένα πικνίκ “Γεύσης της Πάρου” δίπλα στην θάλασσα με φρέσκα τοπικά προϊόντα και κρασί! Απόσταση 8 χλμ.\, Διάρκεια 5 ώρες\, βραχώδες έδαφος\, καθαρό ύψος +/- 130 μ.\nΘα αναχωρήσουμε από το λιμάνι της Πούντας [αναχώρηση φέριμποτ] @ 10:00. Το σημείο εκκίνησης θα βρίσκεται στην αποβάθρα του Αγίου Γεωργίου στις 10:30 όπου θα περάσουμε απέναντι στο Δεσποτικό. Η τιμή δεν περιλαμβάνει κόστη μεταφοράς (βάρκα για το Δεσποτικό: 7€\, λεωφορείο από το λιμάνι της Αντιπάρου στον Άγιο Γεώργιο: 1\,8€ Χ2). Κρατήσεις απαραίτητες: chris@paroshikes.com/ +306972288821 (Viber/WhatsApp). Ραντεβού στην Πούντα!\nΓια κρατήσεις/πληροφορίες\, παρακαλώ επικοινωνήστε στο chris@paroshikes.com ή στο τηλ. +306972288821.Απόσταση 8 χλμ.\, Διάρκεια 5 ώρες\, βραχώδες έδαφος\, καθαρό ύψος +/- 130 μ.\nΘα αναχωρήσουμε από το λιμάνι της Πούντας [αναχώρηση φέριμποτ] @ 10:00. Το σημείο εκκίνησης θα βρίσκεται στην αποβάθρα του Αγίου Γεωργίου στις 10:30 όπου θα περάσουμε απέναντι στο Δεσποτικό. Η τιμή δεν περιλαμβάνει κόστη μεταφοράς (βάρκα για το Δεσποτικό: 7€\, λεωφορείο από το λιμάνι της Αντιπάρου στον Άγιο Γεώργιο: 1\,8€ Χ2). Κρατήσεις απαραίτητες: chris@paroshikes.com/ +306972288821 (Viber/WhatsApp). Ραντεβού στην Πούντα!\nΓια κρατήσεις/πληροφορίες\, παρακαλώ επικοινωνήστε στο chris@paroshikes.com ή στο τηλ. +306972288821. \n* Η αναγραφόμενη τιμή δεν συμπεριλαμβάνει ΦΠΑ.
URL:https://paroshikes.com/tour/the-antiparos-despotiko-hike-2/
LOCATION:Pounta Port\, Paros\, Cyclades\, Greece
CATEGORIES:Antiparos hikes & walks
ATTACH;FMTTYPE=image/jpeg:https://paroshikes.com/wp-content/uploads/2015/06/Antiparos-Despotiko.jpg
END:VEVENT
END:VCALENDAR